BEGIN:VCALENDAR
VERSION:2.0
PRODID:-//Guelph Urban Forest Friends - ECPv6.13.2.1//NONSGML v1.0//EN
CALSCALE:GREGORIAN
METHOD:PUBLISH
X-WR-CALNAME:Guelph Urban Forest Friends
X-ORIGINAL-URL:https://guffguelph.ca
X-WR-CALDESC:Events for Guelph Urban Forest Friends
REFRESH-INTERVAL;VALUE=DURATION:PT1H
X-Robots-Tag:noindex
X-PUBLISHED-TTL:PT1H
BEGIN:VTIMEZONE
TZID:UTC
BEGIN:STANDARD
TZOFFSETFROM:+0000
TZOFFSETTO:+0000
TZNAME:UTC
DTSTART:20220101T000000
END:STANDARD
END:VTIMEZONE
BEGIN:VEVENT
DTSTART;VALUE=DATE:20220430
DTEND;VALUE=DATE:20220501
DTSTAMP:20260425T062542
CREATED:20220413T200153Z
LAST-MODIFIED:20220413T200153Z
UID:6818-1651276800-1651363199@guffguelph.ca
SUMMARY:Annual Clean and Green
DESCRIPTION:Guelph’s annual spring clean up\nThanks to over 1\,200 volunteers and numerous sponsors every year\, our annual Clean and Green community clean up makes our parks and neighbourhoods more beautiful\, and protects our rivers\, streams\, drinking water and local wildlife. \nRegister to help clean Guelph parks\, trails and natural areas\nRegister for Clean and Green\nRegister for a park\, trail or roadway of your choice and clean that area on April 30\, leaving your garbage at the designated drop off site. \nWhen you register\, you can ask for garbage bags and gloves. Clean up kits are available for pick up at Victoria Road Recreation Centre on April 27 and 28. You supply your own masks and extra hands!
URL:https://guffguelph.ca/event/annual-clean-and-green/
LOCATION:ON
ATTACH;FMTTYPE=image/jpeg:https://guffguelph.ca/wp-content/uploads/2022/04/2020-CleanGreen_social_post.jpg
END:VEVENT
END:VCALENDAR