BEGIN:VCALENDAR
VERSION:2.0
PRODID:-//Guelph Urban Forest Friends - ECPv6.13.2.1//NONSGML v1.0//EN
CALSCALE:GREGORIAN
METHOD:PUBLISH
X-WR-CALNAME:Guelph Urban Forest Friends
X-ORIGINAL-URL:https://guffguelph.ca
X-WR-CALDESC:Events for Guelph Urban Forest Friends
REFRESH-INTERVAL;VALUE=DURATION:PT1H
X-Robots-Tag:noindex
X-PUBLISHED-TTL:PT1H
BEGIN:VTIMEZONE
TZID:UTC
BEGIN:STANDARD
TZOFFSETFROM:+0000
TZOFFSETTO:+0000
TZNAME:UTC
DTSTART:20220101T000000
END:STANDARD
END:VTIMEZONE
BEGIN:VEVENT
DTSTART;TZID=UTC:20220910T120000
DTEND;TZID=UTC:20220910T130000
DTSTAMP:20260421T091507
CREATED:20220905T225452Z
LAST-MODIFIED:20220907T025149Z
UID:8107-1662811200-1662814800@guffguelph.ca
SUMMARY:Henry Kock Stewardship Award Ceremony
DESCRIPTION:Join us at the Arboretum Expo & Virtual Plant Sale Auction\, (September 9th and 10th)  where we will be honoring this years recipient of the Henry Kock Stewardship Award. This year\, the Guelph Urban Forest Friends are thrilled to announce that Moritz Sanio will be the 2022 recipient. \nCome out at noon for a brief ceremony and congratulate Moritz on a well-deserved award.
URL:https://guffguelph.ca/event/henry-kock-stewardship-award-ceremony/
LOCATION:University of Guelph – Arboretum\, 250 Arboretum Rd\, Guelph\, ON\, N1G 2W1\, Canada
END:VEVENT
END:VCALENDAR