BEGIN:VCALENDAR
VERSION:2.0
PRODID:-//Guelph Urban Forest Friends - ECPv6.13.2.1//NONSGML v1.0//EN
CALSCALE:GREGORIAN
METHOD:PUBLISH
X-WR-CALNAME:Guelph Urban Forest Friends
X-ORIGINAL-URL:https://guffguelph.ca
X-WR-CALDESC:Events for Guelph Urban Forest Friends
REFRESH-INTERVAL;VALUE=DURATION:PT1H
X-Robots-Tag:noindex
X-PUBLISHED-TTL:PT1H
BEGIN:VTIMEZONE
TZID:UTC
BEGIN:STANDARD
TZOFFSETFROM:+0000
TZOFFSETTO:+0000
TZNAME:UTC
DTSTART:20230101T000000
END:STANDARD
END:VTIMEZONE
BEGIN:VEVENT
DTSTART;TZID=UTC:20230909T100000
DTEND;TZID=UTC:20230909T150000
DTSTAMP:20260420T183236
CREATED:20230803T163643Z
LAST-MODIFIED:20230901T191518Z
UID:9695-1694253600-1694271600@guffguelph.ca
SUMMARY:Arboretum Expo & Plant Sale
DESCRIPTION:A community celebration of trees and the many exciting things happening in the Arboretum lands! Join us for tours of the grounds\, trails\, gardens\, research projects\, tree climbing demonstrations\, and an in-person Plant Sale. Take home an interesting woody plant\, grown in the Arboretum greenhouse and tended to by our dedicated staff and volunteers. \n\n\n\n\nGazebo Events and Performances\n\n\n\n\n\n10:00 – 10:10\nGreeting\, Land Acknowledgement and Welcome\n\n\n10:10 – 11:00\nMusical Performance by Reza Yazdanpanah\n\n\n11:00 – 12:00\nMoccasin Identifier Project\, Carolyn King\n\n\n12:00 – 12:30\nGUFF Henry Kock Tree Stewardship Award\n\n\n12:30 – 12:45\nHear\, Here Arboretum Presentation\, Kim Martin\n\n\n1:00 – 1:30\nClimate Change Theatre Action Reading\, Kim McLeod\n\n\n1:30 – 1:45\nHow to Draw a Tree Presentation\, Dawn Matheson & Richelle Forsey\n\n\n2:00 – 3:00\nMusical Performance by The Elderly Brothers\n\n\n3:00 – 3:10\nClosing Remarks\n\n\n\n\n\n\n\nTours and Demonstrations\n(departure time from the West Lawn)\n\n\n\n\n\n10:15\nKids Tree Hike\nArboretum Naturalist Team\n\n\n10:30\nWildlife Habitat Demonstration\nKellen Wood & Mike Yost\n\n\n11:00\nHoney Bee Research Centre Tour\nHoney Bee Research Centre\n\n\n11:00\nArboretum Side Trail Hike\nGuelph Hiking Club\n\n\n11:30\nGosling Wildlife Garden Tour\nNature Guelph\n\n\n12:15\nArboretum Tree Tour\nArboretum Naturalist Team\n\n\n12:30\nFormal Gardens Tour\nCael Wishart\n\n\n1:00\nTree Climbing Demonstration\nKellen Wood & Mike Yost\n\n\n1:30\nElm Recovery Project Tour\nAron Fazekas\n\n\n1:50\nHow to Draw a Tree Tour\nDawn Matheson & Richelle Forsey\n\n\n2:00\nArboretum Side Trail Hike\nGuelph Hiking Club\n\n\n2:30\nGosling Wildlife Garden Tour\nNature Guelph\n\n\n3:30\nTree Planting Circle at Johnston Green\nDawn Matheson & Richelle Forsey\n\n\n\n\n\n\n\nAll Day Booths and Activities (10am to 3pm) in the Arboretum Centre / West Lawn\n\n\n\n\n\nWoody Plant Sale\nThe Arboretum\n\n\nAsk a Gardener! Information Table \nGuelph Wellington Master Gardeners\n\n\nOutdoors Club Gear Camp-Themed Relay Race\nThe Outdoors Club\n\n\nPlant ID and Sketching\nThe SciArt & Botany Clubs\n\n\nInsect Table and Insect Hunt\nThe Wildlife Club\n\n\nHoney Bee Education & Honey Sales\nHoneybee Research Center\n\n\nBiodiversity & Sustainabilty Info Table\nUofG Biodiversity Inventory & Sustainability Office \n\n\nMoccasin Identifier Project Presentation and Information Table\nCarolyn King (The Moccasin Identifier Project)\n\n\nCycling Tips\, Plans\, & E-Bikes!\nGuelph Coalition for Active Transportation Cycling \n\n\nInformation Table\nYorklands Green Hub\n\n\nGuelph Urban Forests Friends Information Table\nGUFF / Tree Trust / Pollination Guelph\n\n\nWild Ontario Bird Demonstration\nWild Ontario\n\n\nGuelph Public Library Book Mobile\nGuelph Public Library\n\n\nNature Guelph Information Table\nNature Guelph\n\n\nCommunity Tree Plans\nTrees for Guelph\n\n\nSoundwalk of Oral Histories & Button Making Table\nHear\, Here Arboretum\n\n\nOrganic Veggies & Information Table\nGuelph Centre for Urban Organic Farming\n\n\nSustainable Water & Healthy Landscapes\nCity of Guelph\n\n\nCompass and Mapping Activity & Information Table\nWild Outside\n\n\nInformation Table\nFocus on Nature\n\n\n \n\n\nConcession stands:\nLaza Food Truck\n\n\n \nLittle Tree Cafe\n\n\n \nGuelph Water Wagon\n\n\n\n\n\n\n\n\nOffsite Tours and Demonstrations\n\n\n\n\n\nGuelph Trial Garden (@ Turfgrass Institute)\n10:30 – 11:15 AM\nFlower Arranging Demonstration\n\n\n10:00 AM – 3:00 PM\nTrial Garden Open House 2023 – Varieties and Favorites Voting\n\n\nTours of Turfgrass Research\n\n\nMaster Gardener’s advice table\n\n\nHouseplant and perennial sale\n\n\n \n \n \n\n\nAt the Guelph Centre for Urban Organic Farming\n10:00 AM – 3:00 PM\nOpen House with Samples of Flowers and Veggies\n\n\n11:00 AM\nGuided Tour\n\n\n12:30 PM\nTool Demonstration\n\n\n2:00 PM\nGuided Tour\n\n\n \n \n \n\n\nOn Johnston Green\n3:30 PM\nHow to Draw a Tree – Tree Planting Circle with Dawn Matheson\n\n\n\n  \nFor more information: https://arboretum.uoguelph.ca/education-events/ArbExpo?fbclid=IwAR0Jo0dfXKvjrPXU3d0keNagLfxaLzFzvpIBGPbZJ-VrRcShYuNGsBfqpMk \n 
URL:https://guffguelph.ca/event/arboretum-expo-plant-sale/
LOCATION:University of Guelph – Arboretum\, 250 Arboretum Rd\, Guelph\, ON\, N1G 2W1\, Canada
END:VEVENT
END:VCALENDAR