BEGIN:VCALENDAR
VERSION:2.0
PRODID:-//Guelph Urban Forest Friends - ECPv6.13.2.1//NONSGML v1.0//EN
CALSCALE:GREGORIAN
METHOD:PUBLISH
X-WR-CALNAME:Guelph Urban Forest Friends
X-ORIGINAL-URL:https://guffguelph.ca
X-WR-CALDESC:Events for Guelph Urban Forest Friends
REFRESH-INTERVAL;VALUE=DURATION:PT1H
X-Robots-Tag:noindex
X-PUBLISHED-TTL:PT1H
BEGIN:VTIMEZONE
TZID:UTC
BEGIN:STANDARD
TZOFFSETFROM:+0000
TZOFFSETTO:+0000
TZNAME:UTC
DTSTART:20230101T000000
END:STANDARD
END:VTIMEZONE
BEGIN:VEVENT
DTSTART;TZID=UTC:20230918T190000
DTEND;TZID=UTC:20230918T210000
DTSTAMP:20260420T183644
CREATED:20230729T183536Z
LAST-MODIFIED:20230824T165655Z
UID:9675-1695063600-1695070800@guffguelph.ca
SUMMARY:“Patterns in the Trees”: A permaculture approach to woody plants in Canada and the tropics
DESCRIPTION:In recognition of National Forest Week (September 17-23)\, many events are being held by Guelph-based organizations. \nThis is a free live-only event. \nTrees are vital for supporting life on earth and converting solar energy into biomass for human and animal use. In their natural state\, they self-organize into layers\, attracting wildlife and encoding information into patterns for intergenerational knowledge transmission. \nJoin us as Renaud Thomas\, an engineer agronomist and permaculture designer takes us through an exploration of the patterns of woody plants in Canada\, and some unique examples from Haiti. \nfor more information: arbor@uoguelph.ca
URL:https://guffguelph.ca/event/patterns-in-the-trees-a-permaculture-approach-to-woody-plants-in-canada-haiti-by-renaud-thomas-haiti/
LOCATION:University of Guelph – Arboretum\, 250 Arboretum Rd\, Guelph\, ON\, N1G 2W1\, Canada
END:VEVENT
END:VCALENDAR