BEGIN:VCALENDAR
VERSION:2.0
PRODID:-//Guelph Urban Forest Friends - ECPv6.13.2.1//NONSGML v1.0//EN
CALSCALE:GREGORIAN
METHOD:PUBLISH
X-WR-CALNAME:Guelph Urban Forest Friends
X-ORIGINAL-URL:https://guffguelph.ca
X-WR-CALDESC:Events for Guelph Urban Forest Friends
REFRESH-INTERVAL;VALUE=DURATION:PT1H
X-Robots-Tag:noindex
X-PUBLISHED-TTL:PT1H
BEGIN:VTIMEZONE
TZID:UTC
BEGIN:STANDARD
TZOFFSETFROM:+0000
TZOFFSETTO:+0000
TZNAME:UTC
DTSTART:20230101T000000
END:STANDARD
END:VTIMEZONE
BEGIN:VEVENT
DTSTART;TZID=UTC:20230919T193000
DTEND;TZID=UTC:20230919T210000
DTSTAMP:20260420T183221
CREATED:20230808T225906Z
LAST-MODIFIED:20230824T164419Z
UID:9664-1695151800-1695157200@guffguelph.ca
SUMMARY:Forest Biodiversity - speaker event
DESCRIPTION:Join Nature Guelph Wildflower Society\, Pollination Guelph and The Arboretum for a National Forest Week event. \nTrees and forests are the foundation of biodiversity on our planet. Join Interpretive Biologist Chris Earley as he explores forests and the staggering number of species to be found in them. There will be nature displays and doorprizes! Sponsored by The Arboretum\, Nature Guelph and Pollination Guelph. \nSpeaker: Chris Earley is the Arboretum’s Interpretive Biologist and Education Coordinator. He teaches workshops and writes books on topics such as birds\, dragonflies and art. \nThere will be Forest Week displays\, doorprizes and more! \nRemember to get your National Forest Week passport stamped. \nPlease register at: https://www.eventbrite.ca/e/forest-biodiversity-tickets-703468732917?aff=oddtdtcreator \n 
URL:https://guffguelph.ca/event/chris-early-forest-biodiversity/
LOCATION:University of Guelph – Arboretum\, 250 Arboretum Rd\, Guelph\, ON\, N1G 2W1\, Canada
END:VEVENT
END:VCALENDAR