BEGIN:VCALENDAR
VERSION:2.0
PRODID:-//Guelph Urban Forest Friends - ECPv6.13.2.1//NONSGML v1.0//EN
CALSCALE:GREGORIAN
METHOD:PUBLISH
X-WR-CALNAME:Guelph Urban Forest Friends
X-ORIGINAL-URL:https://guffguelph.ca
X-WR-CALDESC:Events for Guelph Urban Forest Friends
REFRESH-INTERVAL;VALUE=DURATION:PT1H
X-Robots-Tag:noindex
X-PUBLISHED-TTL:PT1H
BEGIN:VTIMEZONE
TZID:America/Toronto
BEGIN:DAYLIGHT
TZOFFSETFROM:-0500
TZOFFSETTO:-0400
TZNAME:EDT
DTSTART:20230312T070000
END:DAYLIGHT
BEGIN:STANDARD
TZOFFSETFROM:-0400
TZOFFSETTO:-0500
TZNAME:EST
DTSTART:20231105T060000
END:STANDARD
END:VTIMEZONE
BEGIN:VEVENT
DTSTART;TZID=America/Toronto:20230921T170000
DTEND;TZID=America/Toronto:20230921T183000
DTSTAMP:20260420T183642
CREATED:20230803T163306Z
LAST-MODIFIED:20230920T182703Z
UID:9693-1695315600-1695321000@guffguelph.ca
SUMMARY:New Trails for Old Trees
DESCRIPTION:In recognition of National Forest Week (September 17-23)\, many events are being held by Guelph-based organizations. \nThe Ignatius Old-Growth Forest Project has developed programming for every age group\, but we think the adults have been missing out on some amazing\, fun activities! \nCome join us in a participatory nature walk designed to get you moving and engaged in ways that may feel a little childish – what’s wrong with that? \nSpace is limited to 20 participants so please register at email below. \nFor more information and to register: email: pkelly@ignatiusguelph.ca \nThis event is by donation\, please give what you can.
URL:https://guffguelph.ca/event/new-trails-for-old-trees/
LOCATION:53 Cross Creek Boulevard\, 53 Cross Creek Boulevard\, Guelph\, ON\, Canada
END:VEVENT
END:VCALENDAR