BEGIN:VCALENDAR
VERSION:2.0
PRODID:-//Guelph Urban Forest Friends - ECPv6.13.2.1//NONSGML v1.0//EN
CALSCALE:GREGORIAN
METHOD:PUBLISH
X-WR-CALNAME:Guelph Urban Forest Friends
X-ORIGINAL-URL:https://guffguelph.ca
X-WR-CALDESC:Events for Guelph Urban Forest Friends
REFRESH-INTERVAL;VALUE=DURATION:PT1H
X-Robots-Tag:noindex
X-PUBLISHED-TTL:PT1H
BEGIN:VTIMEZONE
TZID:America/Toronto
BEGIN:DAYLIGHT
TZOFFSETFROM:-0500
TZOFFSETTO:-0400
TZNAME:EDT
DTSTART:20230312T070000
END:DAYLIGHT
BEGIN:STANDARD
TZOFFSETFROM:-0400
TZOFFSETTO:-0500
TZNAME:EST
DTSTART:20231105T060000
END:STANDARD
END:VTIMEZONE
BEGIN:VEVENT
DTSTART;TZID=America/Toronto:20230923T090000
DTEND;TZID=America/Toronto:20230923T110000
DTSTAMP:20260420T183642
CREATED:20230729T183146Z
LAST-MODIFIED:20230920T182636Z
UID:9673-1695459600-1695466800@guffguelph.ca
SUMMARY:Mini Forest Installation
DESCRIPTION:In recognition of National Forest Week (September 17-23)\, many events are being held by Guelph-based organizations. \nCommunity planting to install second half of Mini-Forest (modeled after/inspired by the Miyawaki method) \nAll ages are welcome Presented by: City of Guelph\, Green Communities Canada\, Network of Nature\, Network of Nature/Dougan and Associates \nFor more information: stewardship@guelph.ca \nThe actual site is right near the end of Hooper St. at York Road Park
URL:https://guffguelph.ca/event/mini-forest-installation-day-2/
LOCATION:York Road Park\, 85 York Road\, Guelph
END:VEVENT
BEGIN:VEVENT
DTSTART;TZID=America/Toronto:20230923T140000
DTEND;TZID=America/Toronto:20230923T150000
DTSTAMP:20260420T183642
CREATED:20230729T180635Z
LAST-MODIFIED:20230920T182606Z
UID:9659-1695477600-1695481200@guffguelph.ca
SUMMARY:Downtown Tree Tour
DESCRIPTION:In recognition of National Forest Week (September 17-23)\, many events are being held by Guelph-based organizations.  \nTree walk in Downtown Guelph “How to Read a Tree’s Life Story” with focus on how to plant city trees for optimal health\, success and longevity. \nSuitable for all all ages and fitness levels. \nMeet in front of City Hall\, 1 Carden Street by the fountain \nRain Date: Sun Sept 24\, 2 PM \nFor more information: info@urbancottagelandscapes.com \n 
URL:https://guffguelph.ca/event/downtown-tree-tour/
LOCATION:Guelph city hall\, 1 Carden St\, Guelph\, ON\, Canada
END:VEVENT
END:VCALENDAR