BEGIN:VCALENDAR
VERSION:2.0
PRODID:-//Guelph Urban Forest Friends - ECPv6.13.2.1//NONSGML v1.0//EN
CALSCALE:GREGORIAN
METHOD:PUBLISH
X-ORIGINAL-URL:https://guffguelph.ca
X-WR-CALDESC:Events for Guelph Urban Forest Friends
REFRESH-INTERVAL;VALUE=DURATION:PT1H
X-Robots-Tag:noindex
X-PUBLISHED-TTL:PT1H
BEGIN:VTIMEZONE
TZID:America/Toronto
BEGIN:DAYLIGHT
TZOFFSETFROM:-0500
TZOFFSETTO:-0400
TZNAME:EDT
DTSTART:20230312T070000
END:DAYLIGHT
BEGIN:STANDARD
TZOFFSETFROM:-0400
TZOFFSETTO:-0500
TZNAME:EST
DTSTART:20231105T060000
END:STANDARD
END:VTIMEZONE
BEGIN:VEVENT
DTSTART;TZID=America/Toronto:20231108T193000
DTEND;TZID=America/Toronto:20231108T210000
DTSTAMP:20260420T160652
CREATED:20231019T122530Z
LAST-MODIFIED:20231019T122530Z
UID:9876-1699471800-1699477200@guffguelph.ca
SUMMARY:Fall Tree Talk: Mini Forests
DESCRIPTION:A mini forest is a biodiverse community of native trees and shrubs planted tightly together in an urban or suburban setting. Using the Miyawaki method. \nJoin us to learn how this innovative method can add living systems of native diversity to our urban landscapes.
URL:https://guffguelph.ca/event/fall-tree-talk-mini-forests/
LOCATION:Elora Centre for the Arts\, 75 Melville St\, Elora\, ON\, Canada
END:VEVENT
END:VCALENDAR