BEGIN:VCALENDAR
VERSION:2.0
PRODID:-//Guelph Urban Forest Friends - ECPv6.13.2.1//NONSGML v1.0//EN
CALSCALE:GREGORIAN
METHOD:PUBLISH
X-WR-CALNAME:Guelph Urban Forest Friends
X-ORIGINAL-URL:https://guffguelph.ca
X-WR-CALDESC:Events for Guelph Urban Forest Friends
REFRESH-INTERVAL;VALUE=DURATION:PT1H
X-Robots-Tag:noindex
X-PUBLISHED-TTL:PT1H
BEGIN:VTIMEZONE
TZID:America/Toronto
BEGIN:DAYLIGHT
TZOFFSETFROM:-0500
TZOFFSETTO:-0400
TZNAME:EDT
DTSTART:20250309T070000
END:DAYLIGHT
BEGIN:STANDARD
TZOFFSETFROM:-0400
TZOFFSETTO:-0500
TZNAME:EST
DTSTART:20251102T060000
END:STANDARD
END:VTIMEZONE
BEGIN:VEVENT
DTSTART;VALUE=DATE:20250921
DTEND;VALUE=DATE:20250928
DTSTAMP:20260419T104434
CREATED:20250919T154237Z
LAST-MODIFIED:20250919T155006Z
UID:12241-1758412800-1759017599@guffguelph.ca
SUMMARY:Oak Eaters Art Installation at the Arboretum
DESCRIPTION:Step into a fluttering forest of imagination! \nFrom Sunday\, September 21 to Saturday\, September 27\, over 400 students from five Guelph schools — John F. Ross CVI\, Central Public School\, University of Guelph\, John McCrae Public School\, and Centennial CVI — invite you to explore a stunning outdoor gallery of hand-drawn moths and butterflies\, each representing a unique species supported by oak trees. \nThis enchanting display will be nestled just west of the Arboretum Centre\, along the Ivey Trail\, beneath the shade of three majestic oak trees. Wander through the artwork\, celebrate biodiversity\, and witness the creativity of Guelph’s young artists in a setting that’s as inspiring as the drawings themselves.
URL:https://guffguelph.ca/event/oak-eaters-art-installation-at-the-arboretum/
LOCATION:University of Guelph – Arboretum\, 250 Arboretum Rd\, Guelph\, ON\, N1G 2W1\, Canada
END:VEVENT
BEGIN:VEVENT
DTSTART;TZID=America/Toronto:20250921T130000
DTEND;TZID=America/Toronto:20250921T143000
DTSTAMP:20260419T104434
CREATED:20250813T185557Z
LAST-MODIFIED:20250826T185918Z
UID:11869-1758459600-1758465000@guffguelph.ca
SUMMARY:Neighbourhood Forest Tree Walk
DESCRIPTION:Hidden Treasures of the Urban Forest: A Guided Walk  \nImmerse yourself in our urban Preservation Park forest on a guided native tree walk. Led by tree experts from Guelph Tree Trust\, Nature Guelph & Reep Green Solutions \nAlong the way\, we’ll explore: \nTree species and their stories\nSigns of health\, age\, and natural forest management\nThe role of street trees in urban ecosystems \nAs a special treat\, there’s an optional visit to a majestic old burr oak\, tucked away in the middle of a developed area—a living relic of the landscape’s past. \nThis walk promises insight\, discovery\, and a deeper appreciation for the green spaces woven into our city. \nMeeting location: Preservation Park and nearby development. Meeting at a private property. Details upon registration. Limited group size. \nWalking on uneven ground for 1.5 hrs. Family friendly. No dogs please.  \nPlease register here: Neighbourhood Forest Tree Walk – Reep Green Solutions \n  \n 
URL:https://guffguelph.ca/event/neighbourhood-forest-tree-walk/
LOCATION:ON
END:VEVENT
END:VCALENDAR