BEGIN:VCALENDAR
VERSION:2.0
PRODID:-//Guelph Urban Forest Friends - ECPv6.13.2.1//NONSGML v1.0//EN
CALSCALE:GREGORIAN
METHOD:PUBLISH
X-WR-CALNAME:Guelph Urban Forest Friends
X-ORIGINAL-URL:https://guffguelph.ca
X-WR-CALDESC:Events for Guelph Urban Forest Friends
REFRESH-INTERVAL;VALUE=DURATION:PT1H
X-Robots-Tag:noindex
X-PUBLISHED-TTL:PT1H
BEGIN:VTIMEZONE
TZID:UTC
BEGIN:STANDARD
TZOFFSETFROM:+0000
TZOFFSETTO:+0000
TZNAME:UTC
DTSTART:20220101T000000
END:STANDARD
END:VTIMEZONE
BEGIN:VEVENT
DTSTART;TZID=UTC:20220611T100000
DTEND;TZID=UTC:20220611T120000
DTSTAMP:20260421T114204
CREATED:20220606T191136Z
LAST-MODIFIED:20220606T191136Z
UID:7225-1654941600-1654948800@guffguelph.ca
SUMMARY:Eastview Pollinator Park Planting Event
DESCRIPTION:Join us at the Eastview Pollinator Park on Saturday\, June 11 from 10 am-12pm as we add about a hundred plants to a new demonstration garden. Then tour the site and get one of the best views in Guelph from the top of the former landfill site.\nPollinator Park Access\, from 800 Watson Parkway North\, Guelph
URL:https://guffguelph.ca/event/eastview-pollinator-park-planting-event/
LOCATION:Pollinator Park\, 800 Watson Parkway North\, Guelph\, ON\, Canada
END:VEVENT
BEGIN:VEVENT
DTSTART;TZID=UTC:20220612T110000
DTEND;TZID=UTC:20220612T123000
DTSTAMP:20260421T114204
CREATED:20220606T191835Z
LAST-MODIFIED:20220606T195438Z
UID:7235-1655031600-1655037000@guffguelph.ca
SUMMARY:Nature Walk With A Forest Ecologist: The Woodlands of Guelph
DESCRIPTION:Join forest ecologist: Will Barbour on a walk about Guelph’s past\, present\, and future woodlands.\nExplore the impact of non-native trees versus native trees on our woodlands. \nMeet at the front gate.\nPark along York Road near the front gate.
URL:https://guffguelph.ca/event/nature-walk-with-a-forest-ecologist-the-woodlands-of-guelph/
LOCATION:Yorklands\, 785 York Road\, Guelph\, ON\, Canada
END:VEVENT
BEGIN:VEVENT
DTSTART;TZID=UTC:20220618T110000
DTEND;TZID=UTC:20220618T123000
DTSTAMP:20260421T114204
CREATED:20220606T195229Z
LAST-MODIFIED:20220606T195229Z
UID:7238-1655550000-1655555400@guffguelph.ca
SUMMARY:Nature Walk With A Forest Ecologist: Bird's Eye View
DESCRIPTION:Will Barbour\, forest ecologist\, will discuss how to attract migrant birds and the principles of community restoration for biodiversity.\nMeet at the front gate.\nPark along the side of York Road near the front gate.\nSaturday June 18 starts at 11am\n785 York Road\,Guelph
URL:https://guffguelph.ca/event/nature-walk-with-a-forest-ecologist-birds-eye-view/
LOCATION:Yorklands\, 785 York Road\, Guelph\, ON\, Canada
END:VEVENT
END:VCALENDAR