BEGIN:VCALENDAR
VERSION:2.0
PRODID:-//Guelph Urban Forest Friends - ECPv6.13.2.1//NONSGML v1.0//EN
CALSCALE:GREGORIAN
METHOD:PUBLISH
X-ORIGINAL-URL:https://guffguelph.ca
X-WR-CALDESC:Events for Guelph Urban Forest Friends
REFRESH-INTERVAL;VALUE=DURATION:PT1H
X-Robots-Tag:noindex
X-PUBLISHED-TTL:PT1H
BEGIN:VTIMEZONE
TZID:UTC
BEGIN:STANDARD
TZOFFSETFROM:+0000
TZOFFSETTO:+0000
TZNAME:UTC
DTSTART:20220101T000000
END:STANDARD
END:VTIMEZONE
BEGIN:VEVENT
DTSTART;TZID=UTC:20220910T120000
DTEND;TZID=UTC:20220910T130000
DTSTAMP:20260421T080544
CREATED:20220905T225452Z
LAST-MODIFIED:20220907T025149Z
UID:8107-1662811200-1662814800@guffguelph.ca
SUMMARY:Henry Kock Stewardship Award Ceremony
DESCRIPTION:Join us at the Arboretum Expo & Virtual Plant Sale Auction\, (September 9th and 10th)  where we will be honoring this years recipient of the Henry Kock Stewardship Award. This year\, the Guelph Urban Forest Friends are thrilled to announce that Moritz Sanio will be the 2022 recipient. \nCome out at noon for a brief ceremony and congratulate Moritz on a well-deserved award.
URL:https://guffguelph.ca/event/henry-kock-stewardship-award-ceremony/
LOCATION:University of Guelph – Arboretum\, 250 Arboretum Rd\, Guelph\, ON\, N1G 2W1\, Canada
END:VEVENT
BEGIN:VEVENT
DTSTART;TZID=UTC:20220911T130000
DTEND;TZID=UTC:20220911T140000
DTSTAMP:20260421T080544
CREATED:20220906T012618Z
LAST-MODIFIED:20220906T170643Z
UID:8121-1662901200-1662904800@guffguelph.ca
SUMMARY:Grandparents Day - Grandparent Pine Dedication Ceremony
DESCRIPTION:Come out to honour this amazing White Pine tree in Preservation Park at 1:00 pm. A small ceremony and plague will be placed to award this tree with the 2021 Notable Tree Award. Come out to see this magnificent pine and hear the story about it.\n\nAs part of Grandparents day enjoy these other activities:\n\nThe proclamation\, establishing National Grandparents Day stated three distinct purposes: To honor grandparents; To give grandparents an opportunity to show love for their children’s children; To help children become aware of strength\, information and guidance older people can offer.\n\nAll are invited to come to share their stories\, plant a tree and take a short hike. This year we will congregate at The Turtle Island Education Centre\, 343 Southgate Rd. Guelph where there will be maps and guides to lead you on short hikes to points of interest and events along Hanlon Creek.\n\n\nSchedule of Events\n\n8:00 AM “Traditional Water Ceremony”\, Location: Crane Park\n\n10:00 AM “The Story of Turtle Island”\, Location: 343 Southgate Drive\, Park Entrance\n\n11:00 AM “Community Tree Plant”\, Location: Tunnel (Ecoduct) at Expressway\n\n11:00 AM “Tracking and Mapping (3 Words)”\, Location: Marker Tree\n\n11:00 AM “Settler History”\, Location: 51 Terraview Cres\, Park Entrance\n\n1:00 PM “Grandparent Pine Dedication Ceremony”\, Location: Grandparent Pine.
URL:https://guffguelph.ca/event/grandparents-day/
LOCATION:51 Terraview Cres – entrance to Preservation Park\, 51 Terraview Cres\, Guelph\, ON
END:VEVENT
BEGIN:VEVENT
DTSTART;TZID=UTC:20220917T140000
DTEND;TZID=UTC:20220917T150000
DTSTAMP:20260421T080544
CREATED:20220913T214722Z
LAST-MODIFIED:20220913T215000Z
UID:8231-1663423200-1663426800@guffguelph.ca
SUMMARY:Annual Downtown Tree Walk - How to read a tree's life story 
DESCRIPTION:Join us for a short tree walk in downtown Guelph with a focus on how to plant city trees for optimal health\, success\, and longevity. The walk will be approximately 1 hour with lots of time for questions. This event is suitable for all ages and fitness levels.\n\nRain date Sun. Sep. 18th at 2:00pm.\n\nMeet in front of Guelph City Hall\, 1 Carden St near the fountain.
URL:https://guffguelph.ca/event/annual-downtown-tree-walk-how-to-read-a-trees-life-story/
LOCATION:City Hall\, 1 Carden St\, Guelph\, ON\, Canada
END:VEVENT
BEGIN:VEVENT
DTSTART;TZID=UTC:20220918T100000
DTEND;TZID=UTC:20220918T130000
DTSTAMP:20260421T080544
CREATED:20220913T220145Z
LAST-MODIFIED:20220913T220145Z
UID:8238-1663495200-1663506000@guffguelph.ca
SUMMARY:National Forest Week: An Old-Growth Forest Project Tour and Retrospective
DESCRIPTION:A 2-3 hour tour through the Ignatius Old-Growth Forest Project\, including reflections on past and present restoration activities. \n\n\nAbout this event\n\n\n\nForests and other natural spaces are necessary for human health and wellbeing as well as providing habitat and food for all our non-human neighbours. The Ignatius Old-Growth Forest Project has been actively pursuing forest and riparian restoration activities since 2014\, but the work began long before the Project’s official launch as the “Plant an Old-Growth Forest Project.” Join us on Sunday\, September 18th as we kick off National Forest Week with a walk through the Project grounds and a retrospective on its history. We will talk about the dam removal that paved the way in 2009; community collaboration and engagement; past and ongoing restoration activities to improve connectivity and manage invasive species; and adaptive management strategies. \nThis conversation and guided tour is free and open to everyone\, though donations are gratefully accepted online at https://ignatiusguelph.ca/donate/ or on-site through the donation boxes. \nWe will meet at the Pavilion near the entrance at 53 Cross Creek Boulevard at 10am. Please dress for the weather and bring a hat\, sunscreen\, water\, and bug spray as needed. \nWe do have a cap on the number of attendees to ensure parking will be available. If there is enough interest\, we may offer a second session. For more information about the Ignatius Jesuit Centre and the Old-Growth Forest Project\, please visit https://ignatiusguelph.ca/ \nLocation: Ignatius Old-Growth Forest Project Pavilion\, enter at 53 Cross Creek Boulevard and walk toward the meadow
URL:https://guffguelph.ca/event/national-forest-week-an-old-growth-forest-project-tour-and-retrospective/
LOCATION:53 Cross Creek Boulevard\, 53 Cross Creek Boulevard\, Guelph\, ON\, Canada
END:VEVENT
BEGIN:VEVENT
DTSTART;TZID=UTC:20220921T193000
DTEND;TZID=UTC:20220921T210000
DTSTAMP:20260421T080544
CREATED:20220906T011452Z
LAST-MODIFIED:20220906T011452Z
UID:8119-1663788600-1663794000@guffguelph.ca
SUMMARY:Nature Guelph Wildflower Speaker Series
DESCRIPTION:Please join Nature Guelph Wildflower society\, Pollination Guelph and Guelph Urban Forest Friends for a National Forest Day Presentation by Joyce Hostyn. All are welcome! \nJoyce will be presenting “Little Forests for Urban Yards” \nPRE_REGISTRATION REQUIRED \nRegister for this Zoom event by visiting: \nhttps://us02web.zoom.us/meeting/register/tZcld-6urjksGNfP93EzTlwS6nIkk1LmH2-b \nTHIS EVENT IS FREE BUT DONATIONS ARE ALWAYS WELCOME\nDonations can be made through Canada Helps to Nature Guelph or Pollination Guelph
URL:https://guffguelph.ca/event/nature-guelph-wildflower-speaker-series/
LOCATION:ON
END:VEVENT
BEGIN:VEVENT
DTSTART;TZID=UTC:20220924T130000
DTEND;TZID=UTC:20220924T150000
DTSTAMP:20260421T080544
CREATED:20220913T220619Z
LAST-MODIFIED:20220913T234932Z
UID:8242-1664024400-1664031600@guffguelph.ca
SUMMARY:Yorklands Green Hub Tree Festival
DESCRIPTION:Join us on Saturday\, September 24th from 1:00pm to 3:00pm as we celebrate National Forest Week with art and music! \nTrees are an essential part of life and we love to celebrate them at Yorklands Green Hub! \nJoin us as we walk through the trees\, encountering musicians\, artists and meditators. Our collective appreciation will travel on the wind through the trees and beyond.  Activities for the young and (not-so) old! \nSorry\, no bathrooms on site. Park on the south side York Rd. west of the main gate. Or take Guelph Transit bus #4. \nFor more info\, please email Bernadette at bwycks@yorklandsgreenhub.ca
URL:https://guffguelph.ca/event/yorklands-green-hub-tree-festival/
LOCATION:ON
ATTACH;FMTTYPE=image/jpeg:https://guffguelph.ca/wp-content/uploads/2022/09/Capture_1.jpg
END:VEVENT
BEGIN:VEVENT
DTSTART;TZID=UTC:20220927T140000
DTEND;TZID=UTC:20220927T150000
DTSTAMP:20260421T080544
CREATED:20220913T234452Z
LAST-MODIFIED:20220913T234644Z
UID:8244-1664287200-1664290800@guffguelph.ca
SUMMARY:Noticing Nature for Adults
DESCRIPTION:To celebrate National Forest Week this month\, we will have a Noticing Nature sessions for adults!\nTues. Sept. 27th\, 2pm to 3pm.\nWe will walk amidst the trees and journal on the experience.\nMeet at the main gate\nCome if you are able!
URL:https://guffguelph.ca/event/noticing-nature-for-adults/
LOCATION:Yorklands\, 785 York Road\, Guelph\, ON\, Canada
ATTACH;FMTTYPE=image/png:https://guffguelph.ca/wp-content/uploads/2022/09/notice-nature_n.png
END:VEVENT
END:VCALENDAR