BEGIN:VCALENDAR
VERSION:2.0
PRODID:-//Guelph Urban Forest Friends - ECPv6.13.2.1//NONSGML v1.0//EN
CALSCALE:GREGORIAN
METHOD:PUBLISH
X-WR-CALNAME:Guelph Urban Forest Friends
X-ORIGINAL-URL:https://guffguelph.ca
X-WR-CALDESC:Events for Guelph Urban Forest Friends
REFRESH-INTERVAL;VALUE=DURATION:PT1H
X-Robots-Tag:noindex
X-PUBLISHED-TTL:PT1H
BEGIN:VTIMEZONE
TZID:UTC
BEGIN:STANDARD
TZOFFSETFROM:+0000
TZOFFSETTO:+0000
TZNAME:UTC
DTSTART:20230101T000000
END:STANDARD
END:VTIMEZONE
BEGIN:VEVENT
DTSTART;VALUE=DATE:20230307
DTEND;VALUE=DATE:20230415
DTSTAMP:20260420T231531
CREATED:20230316T012738Z
LAST-MODIFIED:20230316T012738Z
UID:9325-1678147200-1681516799@guffguelph.ca
SUMMARY:Private tree protection bylaw review
DESCRIPTION:The city of Guelph has begun a review of its private tree protection bylaw. The review which is being conducted by an outside consultant should be complete by March 2024 when the revised bylaw will be presented to Council. \nHelp us find the right balance to protect and enhance Guelph’s tree canopy while we continue to grow and develop across the city. \nShare your thoughts with the city in a variety of ways. \n\nComplete the online survey\nAttend an information session in-person or online\nVisit us at a community pop-up\n\nGo to Have Your Say for more information
URL:https://guffguelph.ca/event/private-tree-protection-bylaw-review/
LOCATION:ON
END:VEVENT
BEGIN:VEVENT
DTSTART;TZID=UTC:20230422T090000
DTEND;TZID=UTC:20230422T140000
DTSTAMP:20260420T231531
CREATED:20230313T180411Z
LAST-MODIFIED:20230313T180411Z
UID:9308-1682154000-1682172000@guffguelph.ca
SUMMARY:Hanlon Creek Forest - Planting Day
DESCRIPTION:Join us in planting a new forest in Guelph on Earth Day\n Parking\, Site Access\, and Environmental Fair at 335 Laird Road \nPlant trees and enjoy the environmental fair with a variety of booths\, entertainment\, and food.\nTrees\, shovels\, mulch\, pails\, and planting instruction provided.\nWear boots and gloves for your comfort.\nEach tree you plant will sequester 1 ton of carbon dioxide by the time it reaches 40 years old.\nThis site will take 4 years to plant and could become part of a future pollinator flyway. \nTrees such as native oaks\, sugar maples\, and shrubs like serviceberries are popular with pollinators and are well suited to restoring our natural heritage system.  This new forest will help clean our air and water\, and become a home for nesting birds and other animals. When the forest becomes mature\, it will sequester approximately 6\,000 tons of carbon every year.  The trees we plant will benefit generations to come – including the sugar maples that can be tapped and enjoyed b
URL:https://guffguelph.ca/event/hanlon-creek-forest-planting-day/
LOCATION:335 Laird Rd\, Guelph\, ON\, 335 Laird Rd\, Guelph\, ON\, Canada
END:VEVENT
BEGIN:VEVENT
DTSTART;TZID=UTC:20230429T090000
DTEND;TZID=UTC:20230429T150000
DTSTAMP:20260420T231531
CREATED:20230316T011743Z
LAST-MODIFIED:20230316T011743Z
UID:9165-1682758800-1682780400@guffguelph.ca
SUMMARY:Guelph Tree Trust Event
DESCRIPTION:Guelph Tree Trust Inaugural Tree Care Event on Saturday April 29 \nOn Saturday April 29\, 2023\, Guelph Tree Trust (GTT) will provide arborist care for a magnificent old Black Walnut tree in Woodlawn Memorial Park. The public will be invited to attend and watch a team of arborists pruning high in the crown of this legacy tree – a tree which may be as old as the cemetery itself at 160 years.\nMembers of GTT will be on hand to provide information on the tree and pruning work of a team lead by GTT arborist Doug Steel\, of Full Circle Tree Care. The event will include tree-related family friendly activities such as guided tree walks within the cemetery.
URL:https://guffguelph.ca/event/guelph-tree-trust-event/
LOCATION:Woodlawn Memorial Park\, 762 Woolwich St\,\, Guelph\, ON\, N1H 3Z1\, Canada
END:VEVENT
END:VCALENDAR