BEGIN:VCALENDAR
VERSION:2.0
PRODID:-//Guelph Urban Forest Friends - ECPv6.13.2.1//NONSGML v1.0//EN
CALSCALE:GREGORIAN
METHOD:PUBLISH
X-ORIGINAL-URL:https://guffguelph.ca
X-WR-CALDESC:Events for Guelph Urban Forest Friends
REFRESH-INTERVAL;VALUE=DURATION:PT1H
X-Robots-Tag:noindex
X-PUBLISHED-TTL:PT1H
BEGIN:VTIMEZONE
TZID:UTC
BEGIN:STANDARD
TZOFFSETFROM:+0000
TZOFFSETTO:+0000
TZNAME:UTC
DTSTART:20230101T000000
END:STANDARD
END:VTIMEZONE
BEGIN:VEVENT
DTSTART;TZID=UTC:20230506T093000
DTEND;TZID=UTC:20230506T123000
DTSTAMP:20260420T220313
CREATED:20230316T012204Z
LAST-MODIFIED:20230316T012204Z
UID:9319-1683365400-1683376200@guffguelph.ca
SUMMARY:Hanlon Business Park Community Tree Plant
DESCRIPTION:Join Bill Gaines and the whole crew from Trees for Guelph. \nWe plant rain or shine or (hopefully not) snow. \nPlanting starts at 9:30 AM and runs until 12:30 PM. Drop by for as long as you can. Plant one tree or plant for all three hours. \nRegister on-site on the day at the welcome table. \nYou may bring your own shovel\, pails for watering and gardening gloves. If you don’t have gear…DON’T WORRY\, we have some you can borrow. \nPlease wear sturdy footwear and layers of clothing that are comfortable to work and have fun in. \nWe spread out to plant but please follow all the public health guidelines when arriving and during the planting demonstrations. \nBill Gaines will be demonstrating planting techniques continuously throughout the planting sessions so come for as little or as long as you can. Learn all the techniques to plant for high survival rates. (Don’t worry – Bill has been trained by the best – Moritz Sanio. Moritz will be back in the spring) \nAre you a high school students wanting volunteer hours? Make sure to bring your log sheet so we can record your efforts.
URL:https://guffguelph.ca/event/hanlon-business-park-community-tree-plant/
LOCATION:Hanlon Business Park
END:VEVENT
BEGIN:VEVENT
DTSTART;TZID=UTC:20230513T093000
DTEND;TZID=UTC:20230513T123000
DTSTAMP:20260420T220313
CREATED:20230316T012444Z
LAST-MODIFIED:20230316T012444Z
UID:9322-1683970200-1683981000@guffguelph.ca
SUMMARY:Howitt Park Community Tree Plant
DESCRIPTION:Join Bill Gaines and the whole crew from Trees for Guelph. \nWe plant rain or shine or (hopefully not) snow. \nPlanting starts at 9:30 AM and runs until 12:30 PM. Drop by for as long as you can. Plant one tree or plant for all three hours. \nRegister on-site on the day at the welcome table. \nYou may bring your own shovel\, pails for watering and gardening gloves. If you don’t have gear…DON’T WORRY\, we have some you can borrow. \nPlease wear sturdy footwear and layers of clothing that are comfortable to work and have fun in. \nWe spread out to plant but please follow all the public health guidelines when arriving and during the planting demonstrations. \nBill Gaines will be demonstrating planting techniques continuously throughout the planting sessions so come for as little or as long as you can. Learn all the techniques to plant for high survival rates. (Don’t worry – Bill has been trained by the best – Moritz Sanio. Moritz will be back in the spring) \nAre you a high school students wanting volunteer hours? Make sure to bring your log sheet so we can record your efforts.
URL:https://guffguelph.ca/event/howitt-park-community-tree-plant/
LOCATION:Howitt Park\, 81 Beechwood Avenue\, Guelph\, ON\, Canada
END:VEVENT
END:VCALENDAR